BEGIN:VCALENDAR
VERSION:2.0
PRODID:-// - ECPv6.15.20//NONSGML v1.0//EN
CALSCALE:GREGORIAN
METHOD:PUBLISH
X-ORIGINAL-URL:https://atelier3.art
X-WR-CALDESC:Évènements pour 
REFRESH-INTERVAL;VALUE=DURATION:PT1H
X-Robots-Tag:noindex
X-PUBLISHED-TTL:PT1H
BEGIN:VTIMEZONE
TZID:Europe/Brussels
BEGIN:DAYLIGHT
TZOFFSETFROM:+0100
TZOFFSETTO:+0200
TZNAME:CEST
DTSTART:20230326T010000
END:DAYLIGHT
BEGIN:STANDARD
TZOFFSETFROM:+0200
TZOFFSETTO:+0100
TZNAME:CET
DTSTART:20231029T010000
END:STANDARD
BEGIN:DAYLIGHT
TZOFFSETFROM:+0100
TZOFFSETTO:+0200
TZNAME:CEST
DTSTART:20240331T010000
END:DAYLIGHT
BEGIN:STANDARD
TZOFFSETFROM:+0200
TZOFFSETTO:+0100
TZNAME:CET
DTSTART:20241027T010000
END:STANDARD
BEGIN:DAYLIGHT
TZOFFSETFROM:+0100
TZOFFSETTO:+0200
TZNAME:CEST
DTSTART:20250330T010000
END:DAYLIGHT
BEGIN:STANDARD
TZOFFSETFROM:+0200
TZOFFSETTO:+0100
TZNAME:CET
DTSTART:20251026T010000
END:STANDARD
END:VTIMEZONE
BEGIN:VEVENT
DTSTART;TZID=Europe/Brussels:20240517T200000
DTEND;TZID=Europe/Brussels:20240517T223000
DTSTAMP:20260424T153116
CREATED:20240415T152917Z
LAST-MODIFIED:20240415T153021Z
UID:1441-1715976000-1715985000@atelier3.art
SUMMARY:Concert de "Ataraxie"
DESCRIPTION:Dans le cadre de l’édition 2024 de la « Fête de Mai« \, l’asbl « Vagabondart » propose un concert du groupe « ATARAXIE » . \nCe duo intimiste explore avec seulement une contrebasse et une voix l’authenticité et la sobriété d’une musique très riche en émotions. \nDriss Deliege commence son parcours musical avec la basse électrique à l’âge de 15 ans et s’orientera rapidement vers le jazz et les musiques improvisées. En 2020 il se tourne alors vers une musique plus acoustique\, plus organique et choisira la contrebasse comme nouveau moyen d’expression. \n​Yolaine Lhoist chante sur scène depuis 2002 et multiplie les projets musicaux tout en montant son école de musique alternative. En 2021\, grâce à Driss Deliege et ses conseils\, elle sort son premier album « Faces of the Moon ».
URL:https://atelier3.art/event/concert-de-ataraxie/
LOCATION:Atelier 3\, rue de la briqueterie\, 3\, Faulx-Les-Tombes\, 5340\, Belgique
CATEGORIES:Concerts
ATTACH;FMTTYPE=image/webp:https://atelier3.art/wp-content/uploads/2024/04/ataraxie1.webp
END:VEVENT
BEGIN:VEVENT
DTSTART;TZID=Europe/Brussels:20240518T200000
DTEND;TZID=Europe/Brussels:20240518T223000
DTSTAMP:20260424T153116
CREATED:20231026T110651Z
LAST-MODIFIED:20240422T165053Z
UID:1351-1716062400-1716071400@atelier3.art
SUMMARY:Concert de Tucker Zimmermann
DESCRIPTION:C’est avec un immense plaisir que nous accueillerons le chanteur et poète californien Tucker Zimmerman pour un concert exceptionnel à l’Atelier3. \nPour cette légende américaine qui revient  d’une tournée de plusieurs mois aux Etats-Unis & Europe avec le groupe Big Thief\, le temps ne semble pas avoir d’effet . Discret\, presque secret\, Tucker Zimmermann nous livre pourtant des chansons profondes sur fond de 12 cordes\, avec une voix qui a gardé la même puissance à travers toute sa carrière. Ainsi\, à 83 ans\, Tucker\,  continue de naviguer entre folk et blues en proposant des chansons d’une qualité exceptionnelle portées par le lyrisme de textes qu’il interprète de sa voix puissante et éraillée. \n \n \nSur scène\, avec ses dernières chansons : Tucker Zimmerman (guitare et chant) / Nicolas Dechêne (guitare) / Jack Thysen (basse). 
URL:https://atelier3.art/event/concert-de-tucker-zimmermann/
LOCATION:Atelier 3\, rue de la briqueterie\, 3\, Faulx-Les-Tombes\, 5340\, Belgique
CATEGORIES:Concerts
ATTACH;FMTTYPE=image/png:https://atelier3.art/wp-content/uploads/2023/10/TuckerZ1.png
END:VEVENT
END:VCALENDAR