BEGIN:VCALENDAR
VERSION:2.0
PRODID:-// - ECPv6.15.20//NONSGML v1.0//EN
CALSCALE:GREGORIAN
METHOD:PUBLISH
X-ORIGINAL-URL:https://atelier3.art
X-WR-CALDESC:Évènements pour 
REFRESH-INTERVAL;VALUE=DURATION:PT1H
X-Robots-Tag:noindex
X-PUBLISHED-TTL:PT1H
BEGIN:VTIMEZONE
TZID:Europe/Brussels
BEGIN:DAYLIGHT
TZOFFSETFROM:+0100
TZOFFSETTO:+0200
TZNAME:CEST
DTSTART:20230326T010000
END:DAYLIGHT
BEGIN:STANDARD
TZOFFSETFROM:+0200
TZOFFSETTO:+0100
TZNAME:CET
DTSTART:20231029T010000
END:STANDARD
BEGIN:DAYLIGHT
TZOFFSETFROM:+0100
TZOFFSETTO:+0200
TZNAME:CEST
DTSTART:20240331T010000
END:DAYLIGHT
BEGIN:STANDARD
TZOFFSETFROM:+0200
TZOFFSETTO:+0100
TZNAME:CET
DTSTART:20241027T010000
END:STANDARD
BEGIN:DAYLIGHT
TZOFFSETFROM:+0100
TZOFFSETTO:+0200
TZNAME:CEST
DTSTART:20250330T010000
END:DAYLIGHT
BEGIN:STANDARD
TZOFFSETFROM:+0200
TZOFFSETTO:+0100
TZNAME:CET
DTSTART:20251026T010000
END:STANDARD
END:VTIMEZONE
BEGIN:VEVENT
DTSTART;TZID=Europe/Brussels:20240316T200000
DTEND;TZID=Europe/Brussels:20240316T223000
DTSTAMP:20260424T124327
CREATED:20231026T162612Z
LAST-MODIFIED:20240312T110334Z
UID:1360-1710619200-1710628200@atelier3.art
SUMMARY:Concert de Marlène Dorcéna
DESCRIPTION:  \nNous sommes au regret de vous annoncer que ce concert doit être reporté.  \n  \nMarlène Dorcéna \, chanteuse d’origine haïtienne\, accompagnée de ses musiciens\, viendra nous partager ses textes engagés (en français et créole)  baigné dans la soul et le gospel de sa culture d’origine. \n \n 
URL:https://atelier3.art/event/concert-de-duometis/
LOCATION:Atelier 3\, rue de la briqueterie\, 3\, Faulx-Les-Tombes\, 5340\, Belgique
CATEGORIES:Concerts
END:VEVENT
END:VCALENDAR