BEGIN:VCALENDAR
VERSION:2.0
PRODID:-// - ECPv6.15.20//NONSGML v1.0//EN
CALSCALE:GREGORIAN
METHOD:PUBLISH
X-ORIGINAL-URL:https://atelier3.art
X-WR-CALDESC:Évènements pour 
REFRESH-INTERVAL;VALUE=DURATION:PT1H
X-Robots-Tag:noindex
X-PUBLISHED-TTL:PT1H
BEGIN:VTIMEZONE
TZID:Europe/Brussels
BEGIN:DAYLIGHT
TZOFFSETFROM:+0100
TZOFFSETTO:+0200
TZNAME:CEST
DTSTART:20230326T010000
END:DAYLIGHT
BEGIN:STANDARD
TZOFFSETFROM:+0200
TZOFFSETTO:+0100
TZNAME:CET
DTSTART:20231029T010000
END:STANDARD
BEGIN:DAYLIGHT
TZOFFSETFROM:+0100
TZOFFSETTO:+0200
TZNAME:CEST
DTSTART:20240331T010000
END:DAYLIGHT
BEGIN:STANDARD
TZOFFSETFROM:+0200
TZOFFSETTO:+0100
TZNAME:CET
DTSTART:20241027T010000
END:STANDARD
BEGIN:DAYLIGHT
TZOFFSETFROM:+0100
TZOFFSETTO:+0200
TZNAME:CEST
DTSTART:20250330T010000
END:DAYLIGHT
BEGIN:STANDARD
TZOFFSETFROM:+0200
TZOFFSETTO:+0100
TZNAME:CET
DTSTART:20251026T010000
END:STANDARD
END:VTIMEZONE
BEGIN:VEVENT
DTSTART;TZID=Europe/Brussels:20240217T200000
DTEND;TZID=Europe/Brussels:20240217T220000
DTSTAMP:20260424T111816
CREATED:20230905T101422Z
LAST-MODIFIED:20231026T120719Z
UID:1339-1708200000-1708207200@atelier3.art
SUMMARY:Concert de Charlotte Renwa Trio
DESCRIPTION:Charlotte Renwa Trio c’est la rencontre amoureuse de deux univers différents. D’un côté Charlotte Renwa apporte son amour des mots qu’elle écrit\, des standards de la chanson française et de l’univers folk dans lequel elle évolue depuis des années et de l’autre\, Raphaël D’Agostino apporte sa passion pour le jazz New Orleans. Sébastien Wallens les rejoint bientôt pour former alors ce trio éclectique qui revisite Piaf\, Perret\, Aznavour ou encore Brassens. \nL’énergie de ce Trio permet de se réapproprier les mélodies populaires que nous avons tous en mémoire\, de redécouvrir les textes qui ont marqué des générations avant nous. Tantôt explosives\, tantôt tendres et délicates\, ces chansons se rappellent à nous comme un souvenir d’enfance qui fait toujours du bien. \nMais ce n’est pas tout! Portée par les cuivres et la section rythmique\, Charlotte propose ses compositions inspirées du folk trad et rappellent souvent les rythmes des valses qui font encore danser aujourd’hui. \nCharlotte Renwa Trio\, c’est un voyage à travers les mots dont on revient avec la joie d’avoir renoué avec ses souvenirs et celle d’avoir fait des découvertes.
URL:https://atelier3.art/event/concert-de-charlotte-renwa-trio/
LOCATION:Atelier 3\, rue de la briqueterie\, 3\, Faulx-Les-Tombes\, 5340\, Belgique
CATEGORIES:Concerts
ATTACH;FMTTYPE=image/jpeg:https://atelier3.art/wp-content/uploads/2023/09/CharlRenwTrio1-scaled.jpg
END:VEVENT
END:VCALENDAR