BEGIN:VCALENDAR
VERSION:2.0
PRODID:-// - ECPv6.15.20//NONSGML v1.0//EN
CALSCALE:GREGORIAN
METHOD:PUBLISH
X-ORIGINAL-URL:https://atelier3.art
X-WR-CALDESC:Évènements pour 
REFRESH-INTERVAL;VALUE=DURATION:PT1H
X-Robots-Tag:noindex
X-PUBLISHED-TTL:PT1H
BEGIN:VTIMEZONE
TZID:Europe/Brussels
BEGIN:DAYLIGHT
TZOFFSETFROM:+0100
TZOFFSETTO:+0200
TZNAME:CEST
DTSTART:20220327T010000
END:DAYLIGHT
BEGIN:STANDARD
TZOFFSETFROM:+0200
TZOFFSETTO:+0100
TZNAME:CET
DTSTART:20221030T010000
END:STANDARD
BEGIN:DAYLIGHT
TZOFFSETFROM:+0100
TZOFFSETTO:+0200
TZNAME:CEST
DTSTART:20230326T010000
END:DAYLIGHT
BEGIN:STANDARD
TZOFFSETFROM:+0200
TZOFFSETTO:+0100
TZNAME:CET
DTSTART:20231029T010000
END:STANDARD
BEGIN:DAYLIGHT
TZOFFSETFROM:+0100
TZOFFSETTO:+0200
TZNAME:CEST
DTSTART:20240331T010000
END:DAYLIGHT
BEGIN:STANDARD
TZOFFSETFROM:+0200
TZOFFSETTO:+0100
TZNAME:CET
DTSTART:20241027T010000
END:STANDARD
END:VTIMEZONE
BEGIN:VEVENT
DTSTART;TZID=Europe/Brussels:20231202T200000
DTEND;TZID=Europe/Brussels:20231202T230000
DTSTAMP:20260424T084502
CREATED:20220914T144540Z
LAST-MODIFIED:20231029T144555Z
UID:1025-1701547200-1701558000@atelier3.art
SUMMARY:Concert de "Seesayle & Mademoiselles"
DESCRIPTION:Seesayle & Mademoiselles est un génial quintet de cordes\, accordéon\, clavier et percussions. \nPost Folk onirique à la manière d’un cabaret féerique\, tout droit sorti d’une boîte à musique aux sonorités baroques.\nÉmotions houleuses\, harmonies contrastées et raffinées. Conte d’un hiver sombre et épineux porté par une voix qui se joue des styles. Tantôt fragile ou enfantine\, tantôt furieusement déterminée.\n\n– Seesayle: composition\, chant\, guitare\, clavier\n– Anne-Claude Dejasse: arrangements\, violon\, clavier\, voix\n– Eva Grudzien: violon alto\n– Aurélie Potty: violoncelle\n– Ann-Melody Reginster: accordéon\, percussions\, clavier\, voix.\n\nhttps://www.youtube.com/watch?v=xSA7BVE3aGg
URL:https://atelier3.art/event/concert-de-seesayle-mademoiselles-quintet/
LOCATION:Atelier 3\, rue de la briqueterie\, 3\, Faulx-Les-Tombes\, 5340\, Belgique
CATEGORIES:Concerts
ATTACH;FMTTYPE=image/jpeg:https://atelier3.art/wp-content/uploads/2022/09/Seesayle-et-Mademoiselles-An-Vert.jpg
END:VEVENT
END:VCALENDAR