BEGIN:VCALENDAR
VERSION:2.0
PRODID:-// - ECPv6.15.20//NONSGML v1.0//EN
CALSCALE:GREGORIAN
METHOD:PUBLISH
X-ORIGINAL-URL:https://atelier3.art
X-WR-CALDESC:Évènements pour 
REFRESH-INTERVAL;VALUE=DURATION:PT1H
X-Robots-Tag:noindex
X-PUBLISHED-TTL:PT1H
BEGIN:VTIMEZONE
TZID:Europe/Brussels
BEGIN:DAYLIGHT
TZOFFSETFROM:+0100
TZOFFSETTO:+0200
TZNAME:CEST
DTSTART:20220327T010000
END:DAYLIGHT
BEGIN:STANDARD
TZOFFSETFROM:+0200
TZOFFSETTO:+0100
TZNAME:CET
DTSTART:20221030T010000
END:STANDARD
BEGIN:DAYLIGHT
TZOFFSETFROM:+0100
TZOFFSETTO:+0200
TZNAME:CEST
DTSTART:20230326T010000
END:DAYLIGHT
BEGIN:STANDARD
TZOFFSETFROM:+0200
TZOFFSETTO:+0100
TZNAME:CET
DTSTART:20231029T010000
END:STANDARD
BEGIN:DAYLIGHT
TZOFFSETFROM:+0100
TZOFFSETTO:+0200
TZNAME:CEST
DTSTART:20240331T010000
END:DAYLIGHT
BEGIN:STANDARD
TZOFFSETFROM:+0200
TZOFFSETTO:+0100
TZNAME:CET
DTSTART:20241027T010000
END:STANDARD
END:VTIMEZONE
BEGIN:VEVENT
DTSTART;TZID=Europe/Brussels:20231107T190000
DTEND;TZID=Europe/Brussels:20231107T203000
DTSTAMP:20260424T072114
CREATED:20231030T093824Z
LAST-MODIFIED:20231030T123325Z
UID:1379-1699383600-1699389000@atelier3.art
SUMMARY:Soirée Chants de la Terre
DESCRIPTION:Venez partager un beau moment de reliance.\n \nPrendre un temps pour soi\, pour se relier par la voix à la Terre\, à la Nature\, à nous même et aux autres. Toutes les voix sont bienvenues\, juste comme elles sont. \nPascalina\, musicienne de la Terre\, animatrice Art et Nature et professeur de musique en pédagogie active s’est passionnée dans la recherche de ces chants simples\, dans notre langue\, le français\, qui font du bien\, qui célèbrent la Nature\, la Vie et ses cycles et qui nous relient. \n  \nRéservations : pascale.doumont@yahoo.fr ou au 0492/ 07 16 55 \nP.A.F.  : libre et en conscience \n 
URL:https://atelier3.art/event/soiree-chants-de-la-terre/
CATEGORIES:Ateliers
ATTACH;FMTTYPE=image/png:https://atelier3.art/wp-content/uploads/2023/10/CerclChant.png
END:VEVENT
BEGIN:VEVENT
DTSTART;TZID=Europe/Brussels:20231124T213000
DTEND;TZID=Europe/Brussels:20231125T110000
DTSTAMP:20260424T072114
CREATED:20231003T125017Z
LAST-MODIFIED:20231003T125348Z
UID:1346-1700861400-1700910000@atelier3.art
SUMMARY:Nuit sonore
DESCRIPTION:Une expérience insolite et ressourçante\nEt si on s’offrait un long bain de sonorités envoûtantes\, un espace où les visions viennent à nous\, un temps de relâchement complet où on s’autorise à recevoir les bienfaits du Son\, où on s’accorde la douceur et le laisser-être qui parfois nous manquent..?\nVous êtes nombreux à nous l’avoir dit : on voudrait que ça dure toute le nuit !\nVos vœux sont devenus réalité : venez donc vous déposer et vous abandonner dans cette profonde légèreté vibratoire !\nUn quatuor de musiciens et sono-thérapeutes vous emmènent en Voyage.\nDe 21h30 à 8h30h\, vous traverserez les mille et une nuits au gré des sons\, des odeurs de plantes et résines sacrées en fumigation\, de méditation guidée…\nPour le prix d’une heure de massage\, vous pouvez vous offrir cet espace-temps et vous retrouver « en famille » au sein d’une belle tribu d’humains sensibles et « à la maison » dans l’expérience que vous vivez ici et maintenant.\nNuit divisée en 2 temps :\nMusique de 21h30 à 1h à peu près\, ensuite nous prendrons un temps de repos conséquent.\nNous vous réveillerons en musique et en douceur vers 7h\, et terminerons vers 9h avec 1 petit déjeuner partage( façon auberge espagnole)\nmatinée clôturée vers 10h30-11h00\nATTENTION: Accueil des 20h30 pour vous installer\nNous vous invitons à amener un petit quelque chose à partager pour un petit déjeuner collectif !\nPrix : 80€\n(Si le prix est un frein\, contactez-nous\, un arrangement est toujours possible)\n\n\nAfin de marquer votre engagement\, la réservation sera prise en compte après réception du montant sur le compte de l’Asbl HumanYterra \nBE48 1262 0808 0127\nCommunication : Nuit Sonore- votre nom\nQuoi emporter :\nDe quoi être confortable pour passer la nuit\, pyjama ou vêtements amples\, couverture et oreiller\, gros coussins ou matelas\, votre gourde d’eau ou de tisane\, …\nATTENTION: veuillez éviter les matières synthétiques (la combinaison matelas gonflable + sac de couchage peut être bruyante)\n En savoir plus…? \nEn vous offrant ce moment\, vous plongez dans votre inconscient\, vous inondez vos cellules de vibrations guérisseuses\, et vous partagez un espace-temps de bien-être avec des personnes qui ont des valeurs et aspirations proches des vôtres.\nSe clôturant avec un cercle de paroles\, nous déposons nos ressentis\, nos intentions\, nos visions et nous co-créons un champ d’énergie saine et positive qui nous imprègne et nous reconstitue\nun espace où chacun apporte sa médecine du cœur\, et peut travailler intérieurement\, sans avoir recours à l’usage de plantes dans une démarche « psychonaute »\nInsomniaque\, ou au contraire peur de vous endormir.. ? Les bienfaits du Son pénètrent tous vos corps (mental\, émotionnel et physique) et la frontière entre conscient et inconscient se dissout : cette Nuit Sonore vous apporte un soin qui peut rééquilibrer votre rythme\, apaiser vos tensions\, et vous mettre au contact de votre monde imaginal\, qui assure le passage réversible entre le sensible et l’intelligible.\n Installez vos cousins\, couvertures\, peaux et grigris sur ce grand tapis volant : nous décollons bientôt !
URL:https://atelier3.art/event/nuit-sonore/
LOCATION:Atelier 3\, rue de la briqueterie\, 3\, Faulx-Les-Tombes\, 5340\, Belgique
CATEGORIES:Concerts
ATTACH;FMTTYPE=image/jpeg:https://atelier3.art/wp-content/uploads/2023/10/nuitSonore.jpg
END:VEVENT
END:VCALENDAR