BEGIN:VCALENDAR
VERSION:2.0
PRODID:-// - ECPv6.15.20//NONSGML v1.0//EN
CALSCALE:GREGORIAN
METHOD:PUBLISH
X-ORIGINAL-URL:https://atelier3.art
X-WR-CALDESC:Évènements pour 
REFRESH-INTERVAL;VALUE=DURATION:PT1H
X-Robots-Tag:noindex
X-PUBLISHED-TTL:PT1H
BEGIN:VTIMEZONE
TZID:Europe/Brussels
BEGIN:DAYLIGHT
TZOFFSETFROM:+0100
TZOFFSETTO:+0200
TZNAME:CEST
DTSTART:20220327T010000
END:DAYLIGHT
BEGIN:STANDARD
TZOFFSETFROM:+0200
TZOFFSETTO:+0100
TZNAME:CET
DTSTART:20221030T010000
END:STANDARD
BEGIN:DAYLIGHT
TZOFFSETFROM:+0100
TZOFFSETTO:+0200
TZNAME:CEST
DTSTART:20230326T010000
END:DAYLIGHT
BEGIN:STANDARD
TZOFFSETFROM:+0200
TZOFFSETTO:+0100
TZNAME:CET
DTSTART:20231029T010000
END:STANDARD
BEGIN:DAYLIGHT
TZOFFSETFROM:+0100
TZOFFSETTO:+0200
TZNAME:CEST
DTSTART:20240331T010000
END:DAYLIGHT
BEGIN:STANDARD
TZOFFSETFROM:+0200
TZOFFSETTO:+0100
TZNAME:CET
DTSTART:20241027T010000
END:STANDARD
END:VTIMEZONE
BEGIN:VEVENT
DTSTART;TZID=Europe/Brussels:20230902T200000
DTEND;TZID=Europe/Brussels:20230902T220000
DTSTAMP:20260424T055835
CREATED:20230725T192055Z
LAST-MODIFIED:20230725T192055Z
UID:1317-1693684800-1693692000@atelier3.art
SUMMARY:ACCORDÉONISSIMO
DESCRIPTION:Notre premier concert de la saison 2023/2024 propose à celles et ceux qui n’ont pas eu la possibilité d’obtenir une place en mai dernier de venir découvrir le spectacle « Accordéonissimo »   du Dr Beat.\nBien plus qu’un concert\, c’est à un spectacle original et inédit que nous vous invitons : découvrir l’accordéonologie\, discipline innovante\, lors d’un « presque seul en scène » musical en 3 actes proposés par le Dr Beat\, accordéonologue de renom.\nDes invités surprises du Dr Beat viendront inonder la scène de leur talent et vous mettre les fourmis dans les jambes.\nVenez voyager dans le temps et découvrir l’histoire et le parcours insolite du Dr Beat sous le regard bienveillant des grands maitres de l’accordéon.
URL:https://atelier3.art/event/accordeonissimo/
LOCATION:Atelier 3\, rue de la briqueterie\, 3\, Faulx-Les-Tombes\, 5340\, Belgique
ATTACH;FMTTYPE=image/png:https://atelier3.art/wp-content/uploads/2023/07/DrBeat.png
END:VEVENT
BEGIN:VEVENT
DTSTART;TZID=Europe/Brussels:20230917T153000
DTEND;TZID=Europe/Brussels:20230917T173000
DTSTAMP:20260424T055835
CREATED:20230705T124101Z
LAST-MODIFIED:20230705T130002Z
UID:1313-1694964600-1694971800@atelier3.art
SUMMARY:Cercle de tambours
DESCRIPTION:Cette cérémonie destinée aux porteuses et porteurs de tambours sera animée par Plume Beli (Maestra). \nUn cercle de tambours est un moment de connexion entre la Terre\, les Hommes et le Ciel. Lorsque les tambours chantent ensemble\, nos oreilles peuvent entendre un autre chant.  C’est celui du Coeur des tambours. C’est une expérience intense et profonde. \nSi vous vous sentez concerner par la cérémonie\, la Terre et le Partage\, ce cercle est fait pour vous. \nIl est ouvert à toutes et tous. La seule exigence demandée est  que vous ayez un tambour ( il est possible d’en avoir un en prêt pour celui ou celle qui souhaite participer et qui n’en possède  pas).
URL:https://atelier3.art/event/cercle-de-tambours/
LOCATION:Atelier 3\, rue de la briqueterie\, 3\, Faulx-Les-Tombes\, 5340\, Belgique
ATTACH;FMTTYPE=image/jpeg:https://atelier3.art/wp-content/uploads/2023/07/cerclTamb1.jpg
END:VEVENT
BEGIN:VEVENT
DTSTART;TZID=Europe/Brussels:20230923T200000
DTEND;TZID=Europe/Brussels:20230923T223000
DTSTAMP:20260424T055835
CREATED:20230615T093714Z
LAST-MODIFIED:20230615T094055Z
UID:1308-1695499200-1695508200@atelier3.art
SUMMARY:Piwi Leman
DESCRIPTION:Piwi Leman viendra nous proposer son nouveau tour de chant  accompagné par son ami Fred Péloquin (Montréal-Québec) à l’accordéon et de son ami guitariste Yvan Rother (Bruxelles) \nArmé de « Rosie » sa pelle guitare\, de « Jacqueline » et « Ibri » ses cigares box\, de « PéPé » son ukulélé électrique\, de « Alain-Guy » son Banjolélé\, de ses cloches et caisses aux pieds\, il offre un univers musical étonnant ou viennent se déposer des textes surprenants\, poétiques  et vivants. \nLaissez-vous charmer par l’aventure qui s’offre à vous… La croisée des chemins n’a jamais été aussi proche…
URL:https://atelier3.art/event/piwi-leman/
LOCATION:Atelier 3\, rue de la briqueterie\, 3\, Faulx-Les-Tombes\, 5340\, Belgique
CATEGORIES:Concerts
ATTACH;FMTTYPE=image/jpeg:https://atelier3.art/wp-content/uploads/2023/06/PiwiL1-scaled.jpg
END:VEVENT
END:VCALENDAR